Package: plyinteractions Version: 1.7.0 Command: chmod a+r plyinteractions -R && F:\biocbuild\bbs-3.22-bioc\R\bin\R.exe CMD build --keep-empty-dirs --no-resave-data plyinteractions StartedAt: 2025-07-22 21:15:39 -0400 (Tue, 22 Jul 2025) EndedAt: 2025-07-22 21:25:58 -0400 (Tue, 22 Jul 2025) EllapsedTime: 618.4 seconds RetCode: 0 Status: OK PackageFile: plyinteractions_1.7.0.tar.gz PackageFileSize: 3.484 MiB