Package: plotgardener Version: 1.15.1 Command: /home/biocbuild/R/R/bin/R CMD check --install=check:plotgardener.install-out.txt --library=/home/biocbuild/R/R/site-library --no-vignettes --timings plotgardener_1.15.1.tar.gz StartedAt: 2025-07-01 10:27:15 -0000 (Tue, 01 Jul 2025) EndedAt: 2025-07-01 10:41:07 -0000 (Tue, 01 Jul 2025) EllapsedTime: 832.7 seconds RetCode: 1 Status: ERROR CheckDir: plotgardener.Rcheck Warnings: NA