Package: plotgardener Version: 1.15.1 Command: F:\biocbuild\bbs-3.22-bioc\R\bin\R.exe CMD INSTALL plotgardener StartedAt: 2025-07-01 16:18:31 -0400 (Tue, 01 Jul 2025) EndedAt: 2025-07-01 16:19:55 -0400 (Tue, 01 Jul 2025) EllapsedTime: 84.1 seconds RetCode: 0 Status: OK