Package: plotgardener Version: 1.15.1 Command: F:\biocbuild\bbs-3.22-bioc\R\bin\R.exe CMD check --no-multiarch --install=check:plotgardener.install-out.txt --library=F:\biocbuild\bbs-3.22-bioc\R\library --no-vignettes --timings plotgardener_1.15.1.tar.gz StartedAt: 2025-07-02 05:06:34 -0400 (Wed, 02 Jul 2025) EndedAt: 2025-07-02 05:15:52 -0400 (Wed, 02 Jul 2025) EllapsedTime: 558.0 seconds RetCode: 0 Status: OK CheckDir: plotgardener.Rcheck Warnings: 0