Package: plotgardener Version: 1.15.1 Command: rm -rf plotgardener.buildbin-libdir && mkdir plotgardener.buildbin-libdir && F:\biocbuild\bbs-3.22-bioc\R\bin\R.exe CMD INSTALL --build --library=plotgardener.buildbin-libdir plotgardener_1.15.1.tar.gz StartedAt: 2025-07-02 09:33:23 -0400 (Wed, 02 Jul 2025) EndedAt: 2025-07-02 09:35:29 -0400 (Wed, 02 Jul 2025) EllapsedTime: 125.3 seconds RetCode: 0 Status: OK PackageFile: plotgardener_1.15.1.zip PackageFileSize: 3.614 MiB