Package: plier Version: 1.79.0 Command: /home/biocbuild/R/R/bin/R CMD INSTALL plier StartedAt: 2025-07-21 20:34:46 -0000 (Mon, 21 Jul 2025) EndedAt: 2025-07-21 20:34:59 -0000 (Mon, 21 Jul 2025) EllapsedTime: 13.3 seconds RetCode: 0 Status: OK