Package: plier Version: 1.79.0 Command: /home/biocbuild/R/R/bin/R CMD build --keep-empty-dirs --no-resave-data plier StartedAt: 2025-07-22 01:55:28 -0000 (Tue, 22 Jul 2025) EndedAt: 2025-07-22 01:55:29 -0000 (Tue, 22 Jul 2025) EllapsedTime: 1.0 seconds RetCode: 0 Status: OK PackageFile: plier_1.79.0.tar.gz PackageFileSize: 20.31 KiB