Package: plier Version: 1.79.0 Command: F:\biocbuild\bbs-3.22-bioc\R\bin\R.exe CMD check --no-multiarch --install=check:plier.install-out.txt --library=F:\biocbuild\bbs-3.22-bioc\R\library --no-vignettes --timings plier_1.79.0.tar.gz StartedAt: 2025-08-15 06:27:52 -0400 (Fri, 15 Aug 2025) EndedAt: 2025-08-15 06:28:32 -0400 (Fri, 15 Aug 2025) EllapsedTime: 40.5 seconds RetCode: 0 Status: WARNINGS CheckDir: plier.Rcheck Warnings: 1