Package: plier Version: 1.79.0 Command: rm -rf plier.buildbin-libdir && mkdir plier.buildbin-libdir && F:\biocbuild\bbs-3.22-bioc\R\bin\R.exe CMD INSTALL --build --library=plier.buildbin-libdir plier_1.79.0.tar.gz StartedAt: 2025-08-15 10:58:07 -0400 (Fri, 15 Aug 2025) EndedAt: 2025-08-15 10:58:18 -0400 (Fri, 15 Aug 2025) EllapsedTime: 11.5 seconds RetCode: 0 Status: OK PackageFile: plier_1.79.0.zip PackageFileSize: 101.4 KiB