Package: plier Version: 1.79.0 Command: /home/biocbuild/bbs-3.22-bioc/R/bin/R CMD build --keep-empty-dirs --no-resave-data --md5 plier StartedAt: 2025-07-01 18:35:55 -0400 (Tue, 01 Jul 2025) EndedAt: 2025-07-01 18:35:56 -0400 (Tue, 01 Jul 2025) EllapsedTime: 1.0 seconds RetCode: 0 Status: OK PackageFile: plier_1.79.0.tar.gz PackageFileSize: 20.82 KiB