Package: plier Version: 1.79.0 Command: /Library/Frameworks/R.framework/Resources/bin/R CMD build --keep-empty-dirs --no-resave-data plier StartedAt: 2025-07-14 18:04:52 -0400 (Mon, 14 Jul 2025) EndedAt: 2025-07-14 18:04:53 -0400 (Mon, 14 Jul 2025) EllapsedTime: 1.2 seconds RetCode: 0 Status: OK PackageFile: plier_1.79.0.tar.gz PackageFileSize: 20.32 KiB