Package: plier Version: 1.79.0 Command: rm -rf plier.buildbin-libdir && mkdir plier.buildbin-libdir && /Users/biocbuild/BBS/utils/build-universal.sh plier_1.79.0.tar.gz /Library/Frameworks/R.framework/Resources/bin/R plier.buildbin-libdir StartedAt: 2025-07-15 01:12:20 -0400 (Tue, 15 Jul 2025) EndedAt: 2025-07-15 01:12:30 -0400 (Tue, 15 Jul 2025) EllapsedTime: 10.5 seconds RetCode: 0 Status: OK PackageFile: plier_1.79.0.tgz PackageFileSize: 43.49 KiB