Package: plier Version: 1.79.0 Command: /Library/Frameworks/R.framework/Resources/bin/R CMD check --install=check:plier.install-out.txt --library=/Library/Frameworks/R.framework/Resources/library --no-vignettes --timings plier_1.79.0.tar.gz StartedAt: 2025-07-21 20:49:03 -0400 (Mon, 21 Jul 2025) EndedAt: 2025-07-21 20:49:16 -0400 (Mon, 21 Jul 2025) EllapsedTime: 13.2 seconds RetCode: 0 Status: WARNINGS CheckDir: plier.Rcheck Warnings: 1