Package: plgem Version: 1.81.0 Command: /home/biocbuild/R/R/bin/R CMD INSTALL plgem StartedAt: 2025-06-30 20:30:03 -0000 (Mon, 30 Jun 2025) EndedAt: 2025-06-30 20:30:07 -0000 (Mon, 30 Jun 2025) EllapsedTime: 4.0 seconds RetCode: 0 Status: OK