Package: plgem Version: 1.81.0 Command: F:\biocbuild\bbs-3.22-bioc\R\bin\R.exe CMD check --no-multiarch --install=check:plgem.install-out.txt --library=F:\biocbuild\bbs-3.22-bioc\R\library --no-vignettes --timings plgem_1.81.0.tar.gz StartedAt: 2025-07-18 05:09:04 -0400 (Fri, 18 Jul 2025) EndedAt: 2025-07-18 05:10:13 -0400 (Fri, 18 Jul 2025) EllapsedTime: 68.9 seconds RetCode: 0 Status: OK CheckDir: plgem.Rcheck Warnings: 0