Package: plgem Version: 1.81.0 Command: /home/biocbuild/bbs-3.22-bioc/R/bin/R CMD INSTALL plgem StartedAt: 2025-06-29 15:17:44 -0400 (Sun, 29 Jun 2025) EndedAt: 2025-06-29 15:17:48 -0400 (Sun, 29 Jun 2025) EllapsedTime: 3.7 seconds RetCode: 0 Status: OK