Package: plgem Version: 1.81.0 Command: /home/biocbuild/bbs-3.22-bioc/R/bin/R CMD build --keep-empty-dirs --no-resave-data --md5 plgem StartedAt: 2025-06-29 18:35:40 -0400 (Sun, 29 Jun 2025) EndedAt: 2025-06-29 18:35:54 -0400 (Sun, 29 Jun 2025) EllapsedTime: 14.0 seconds RetCode: 0 Status: OK PackageFile: plgem_1.81.0.tar.gz PackageFileSize: 1.037 MiB