Package: plgem Version: 1.81.0 Command: /Library/Frameworks/R.framework/Resources/bin/R CMD INSTALL plgem StartedAt: 2025-06-29 15:14:52 -0400 (Sun, 29 Jun 2025) EndedAt: 2025-06-29 15:15:05 -0400 (Sun, 29 Jun 2025) EllapsedTime: 13.1 seconds RetCode: 0 Status: OK