Package: plgem Version: 1.81.0 Command: /Library/Frameworks/R.framework/Resources/bin/R CMD build --keep-empty-dirs --no-resave-data plgem StartedAt: 2025-06-29 17:51:54 -0400 (Sun, 29 Jun 2025) EndedAt: 2025-06-29 17:52:14 -0400 (Sun, 29 Jun 2025) EllapsedTime: 19.4 seconds RetCode: 0 Status: OK PackageFile: plgem_1.81.0.tar.gz PackageFileSize: 1.036 MiB