Package: plgem Version: 1.81.0 Command: /Library/Frameworks/R.framework/Resources/bin/R CMD INSTALL plgem StartedAt: 2025-07-15 15:18:53 -0400 (Tue, 15 Jul 2025) EndedAt: 2025-07-15 15:18:54 -0400 (Tue, 15 Jul 2025) EllapsedTime: 1.3 seconds RetCode: 0 Status: OK