Package: plasmut Version: 1.7.0 Command: F:\biocbuild\bbs-3.22-bioc\R\bin\R.exe CMD INSTALL plasmut StartedAt: 2025-07-20 15:21:04 -0400 (Sun, 20 Jul 2025) EndedAt: 2025-07-20 15:21:17 -0400 (Sun, 20 Jul 2025) EllapsedTime: 13.0 seconds RetCode: 0 Status: OK