Package: plasmut Version: 1.7.0 Command: chmod a+r plasmut -R && F:\biocbuild\bbs-3.22-bioc\R\bin\R.exe CMD build --keep-empty-dirs --no-resave-data plasmut StartedAt: 2025-07-20 21:11:16 -0400 (Sun, 20 Jul 2025) EndedAt: 2025-07-20 21:14:51 -0400 (Sun, 20 Jul 2025) EllapsedTime: 215.2 seconds RetCode: 0 Status: OK PackageFile: plasmut_1.7.0.tar.gz PackageFileSize: 274.6 KiB