Package: plasmut Version: 1.7.0 Command: /Library/Frameworks/R.framework/Resources/bin/R CMD INSTALL plasmut StartedAt: 2025-07-01 15:24:22 -0400 (Tue, 01 Jul 2025) EndedAt: 2025-07-01 15:24:55 -0400 (Tue, 01 Jul 2025) EllapsedTime: 32.6 seconds RetCode: 0 Status: OK