Package: plasmut Version: 1.7.0 Command: /Library/Frameworks/R.framework/Resources/bin/R CMD check --install=check:plasmut.install-out.txt --library=/Library/Frameworks/R.framework/Resources/library --no-vignettes --timings plasmut_1.7.0.tar.gz StartedAt: 2025-07-01 22:45:31 -0400 (Tue, 01 Jul 2025) EndedAt: 2025-07-01 22:46:13 -0400 (Tue, 01 Jul 2025) EllapsedTime: 42.5 seconds RetCode: 0 Status: OK CheckDir: plasmut.Rcheck Warnings: 0