Package: plasmut Version: 1.7.0 Command: /Library/Frameworks/R.framework/Resources/bin/R CMD build --keep-empty-dirs --no-resave-data plasmut StartedAt: 2025-07-01 18:06:37 -0400 (Tue, 01 Jul 2025) EndedAt: 2025-07-01 18:08:51 -0400 (Tue, 01 Jul 2025) EllapsedTime: 133.7 seconds RetCode: 0 Status: OK PackageFile: plasmut_1.7.0.tar.gz PackageFileSize: 339.5 KiB