Package: planttfhunter Version: 1.9.0 Command: /home/biocbuild/R/R/bin/R CMD check --install=check:planttfhunter.install-out.txt --library=/home/biocbuild/R/R/site-library --no-vignettes --timings planttfhunter_1.9.0.tar.gz StartedAt: 2025-10-17 12:13:53 -0000 (Fri, 17 Oct 2025) EndedAt: 2025-10-17 12:17:22 -0000 (Fri, 17 Oct 2025) EllapsedTime: 208.3 seconds RetCode: 0 Status: OK CheckDir: planttfhunter.Rcheck Warnings: 0