Package: planttfhunter Version: 1.9.0 Command: F:\biocbuild\bbs-3.22-bioc\R\bin\R.exe CMD check --no-multiarch --install=check:planttfhunter.install-out.txt --library=F:\biocbuild\bbs-3.22-bioc\R\library --no-vignettes --timings planttfhunter_1.9.0.tar.gz StartedAt: 2025-07-15 05:10:02 -0400 (Tue, 15 Jul 2025) EndedAt: 2025-07-15 05:13:27 -0400 (Tue, 15 Jul 2025) EllapsedTime: 204.3 seconds RetCode: 0 Status: OK CheckDir: planttfhunter.Rcheck Warnings: 0