Package: planttfhunter Version: 1.9.0 Command: rm -rf planttfhunter.buildbin-libdir && mkdir planttfhunter.buildbin-libdir && F:\biocbuild\bbs-3.22-bioc\R\bin\R.exe CMD INSTALL --build --library=planttfhunter.buildbin-libdir planttfhunter_1.9.0.tar.gz StartedAt: 2025-07-16 09:33:57 -0400 (Wed, 16 Jul 2025) EndedAt: 2025-07-16 09:34:42 -0400 (Wed, 16 Jul 2025) EllapsedTime: 45.0 seconds RetCode: 0 Status: OK PackageFile: planttfhunter_1.9.0.zip PackageFileSize: 1020 KiB