Package: planttfhunter Version: 1.9.0 Command: /Library/Frameworks/R.framework/Resources/bin/R CMD check --install=check:planttfhunter.install-out.txt --library=/Library/Frameworks/R.framework/Resources/library --no-vignettes --timings planttfhunter_1.9.0.tar.gz StartedAt: 2025-07-01 22:45:15 -0400 (Tue, 01 Jul 2025) EndedAt: 2025-07-01 22:48:31 -0400 (Tue, 01 Jul 2025) EllapsedTime: 195.8 seconds RetCode: 0 Status: OK CheckDir: planttfhunter.Rcheck Warnings: 0