Package: planet Version: 1.17.0 Command: chmod a+r planet -R && F:\biocbuild\bbs-3.22-bioc\R\bin\R.exe CMD build --keep-empty-dirs --no-resave-data planet StartedAt: 2025-07-24 21:25:40 -0400 (Thu, 24 Jul 2025) EndedAt: 2025-07-24 21:27:18 -0400 (Thu, 24 Jul 2025) EllapsedTime: 97.5 seconds RetCode: 0 Status: OK PackageFile: planet_1.17.0.tar.gz PackageFileSize: 2.712 MiB