Package: planet Version: 1.17.0 Command: rm -rf planet.buildbin-libdir && mkdir planet.buildbin-libdir && F:\biocbuild\bbs-3.22-bioc\R\bin\R.exe CMD INSTALL --build --library=planet.buildbin-libdir planet_1.17.0.tar.gz StartedAt: 2025-07-25 09:56:33 -0400 (Fri, 25 Jul 2025) EndedAt: 2025-07-25 09:56:45 -0400 (Fri, 25 Jul 2025) EllapsedTime: 12.6 seconds RetCode: 0 Status: OK PackageFile: planet_1.17.0.zip PackageFileSize: 2.783 MiB