Package: pipeComp Version: 1.19.0 Command: /Library/Frameworks/R.framework/Resources/bin/R CMD INSTALL pipeComp StartedAt: 2025-07-01 15:28:35 -0400 (Tue, 01 Jul 2025) EndedAt: 2025-07-01 15:29:03 -0400 (Tue, 01 Jul 2025) EllapsedTime: 28.8 seconds RetCode: 0 Status: OK