Package: piano Version: 2.25.0 Command: /home/biocbuild/R/R/bin/R CMD build --keep-empty-dirs --no-resave-data piano StartedAt: 2025-07-18 02:02:24 -0000 (Fri, 18 Jul 2025) EndedAt: 2025-07-18 02:03:16 -0000 (Fri, 18 Jul 2025) EllapsedTime: 52.1 seconds RetCode: 0 Status: OK PackageFile: piano_2.25.0.tar.gz PackageFileSize: 1.558 MiB