Package: piano Version: 2.25.0 Command: F:\biocbuild\bbs-3.22-bioc\R\bin\R.exe CMD INSTALL piano StartedAt: 2025-07-24 15:49:54 -0400 (Thu, 24 Jul 2025) EndedAt: 2025-07-24 15:50:29 -0400 (Thu, 24 Jul 2025) EllapsedTime: 35.1 seconds RetCode: 0 Status: OK