Package: piano Version: 2.25.0 Command: /home/biocbuild/bbs-3.22-bioc/R/bin/R CMD check --install=check:piano.install-out.txt --library=/home/biocbuild/bbs-3.22-bioc/R/site-library --timings piano_2.25.0.tar.gz StartedAt: 2025-10-06 02:59:11 -0400 (Mon, 06 Oct 2025) EndedAt: 2025-10-06 03:01:38 -0400 (Mon, 06 Oct 2025) EllapsedTime: 147.1 seconds RetCode: 0 Status: OK CheckDir: piano.Rcheck Warnings: 0