Package: piano Version: 2.25.0 Command: /Library/Frameworks/R.framework/Resources/bin/R CMD INSTALL piano StartedAt: 2025-07-16 15:07:15 -0400 (Wed, 16 Jul 2025) EndedAt: 2025-07-16 15:07:22 -0400 (Wed, 16 Jul 2025) EllapsedTime: 7.1 seconds RetCode: 0 Status: OK