Package: phyloseq Version: 1.53.0 Command: /home/biocbuild/R/R/bin/R CMD build --keep-empty-dirs --no-resave-data phyloseq StartedAt: 2025-10-03 02:12:02 -0000 (Fri, 03 Oct 2025) EndedAt: 2025-10-03 02:14:38 -0000 (Fri, 03 Oct 2025) EllapsedTime: 156.1 seconds RetCode: 0 Status: OK PackageFile: phyloseq_1.53.0.tar.gz PackageFileSize: 4.376 MiB