Package: phyloseq Version: 1.53.0 Command: F:\biocbuild\bbs-3.22-bioc\R\bin\R.exe CMD check --no-multiarch --install=check:phyloseq.install-out.txt --library=F:\biocbuild\bbs-3.22-bioc\R\library --no-vignettes --timings phyloseq_1.53.0.tar.gz StartedAt: 2025-08-15 06:23:37 -0400 (Fri, 15 Aug 2025) EndedAt: 2025-08-15 06:29:07 -0400 (Fri, 15 Aug 2025) EllapsedTime: 330.2 seconds RetCode: 0 Status: WARNINGS CheckDir: phyloseq.Rcheck Warnings: 1