Package: phyloseq Version: 1.53.0 Command: /home/biocbuild/bbs-3.22-bioc/R/bin/R CMD INSTALL phyloseq StartedAt: 2025-10-05 15:16:19 -0400 (Sun, 05 Oct 2025) EndedAt: 2025-10-05 15:16:44 -0400 (Sun, 05 Oct 2025) EllapsedTime: 25.3 seconds RetCode: 0 Status: OK