Package: phyloseq Version: 1.53.0 Command: /home/biocbuild/bbs-3.22-bioc/R/bin/R CMD check --install=check:phyloseq.install-out.txt --library=/home/biocbuild/bbs-3.22-bioc/R/site-library --timings phyloseq_1.53.0.tar.gz StartedAt: 2025-10-06 02:58:50 -0400 (Mon, 06 Oct 2025) EndedAt: 2025-10-06 03:04:48 -0400 (Mon, 06 Oct 2025) EllapsedTime: 357.4 seconds RetCode: 0 Status: WARNINGS CheckDir: phyloseq.Rcheck Warnings: 1