Package: phyloseq Version: 1.53.0 Command: /Library/Frameworks/R.framework/Resources/bin/R CMD check --install=check:phyloseq.install-out.txt --library=/Library/Frameworks/R.framework/Resources/library --no-vignettes --timings phyloseq_1.53.0.tar.gz StartedAt: 2025-10-05 23:39:40 -0400 (Sun, 05 Oct 2025) EndedAt: 2025-10-05 23:44:53 -0400 (Sun, 05 Oct 2025) EllapsedTime: 312.8 seconds RetCode: 0 Status: WARNINGS CheckDir: phyloseq.Rcheck Warnings: 1