Package: phyloseq Version: 1.53.0 Command: /Library/Frameworks/R.framework/Resources/bin/R CMD INSTALL phyloseq StartedAt: 2025-10-05 15:08:32 -0400 (Sun, 05 Oct 2025) EndedAt: 2025-10-05 15:08:42 -0400 (Sun, 05 Oct 2025) EllapsedTime: 10.4 seconds RetCode: 0 Status: OK