Package: phosphonormalizer Version: 1.33.0 Command: F:\biocbuild\bbs-3.22-bioc\R\bin\R.exe CMD INSTALL phosphonormalizer StartedAt: 2025-07-01 15:22:55 -0400 (Tue, 01 Jul 2025) EndedAt: 2025-07-01 15:23:13 -0400 (Tue, 01 Jul 2025) EllapsedTime: 17.5 seconds RetCode: 0 Status: OK