Package: phosphonormalizer Version: 1.33.0 Command: chmod a+r phosphonormalizer -R && F:\biocbuild\bbs-3.22-bioc\R\bin\R.exe CMD build --keep-empty-dirs --no-resave-data phosphonormalizer StartedAt: 2025-07-01 21:10:06 -0400 (Tue, 01 Jul 2025) EndedAt: 2025-07-01 21:10:22 -0400 (Tue, 01 Jul 2025) EllapsedTime: 16.2 seconds RetCode: 0 Status: OK PackageFile: phosphonormalizer_1.33.0.tar.gz PackageFileSize: 2.586 MiB