Package: philr Version: 1.35.0 Command: F:\biocbuild\bbs-3.22-bioc\R\bin\R.exe CMD INSTALL philr StartedAt: 2025-08-14 15:32:22 -0400 (Thu, 14 Aug 2025) EndedAt: 2025-08-14 15:32:43 -0400 (Thu, 14 Aug 2025) EllapsedTime: 21.2 seconds RetCode: 0 Status: OK