Package: philr Version: 1.35.0 Command: rm -rf philr.buildbin-libdir && mkdir philr.buildbin-libdir && F:\biocbuild\bbs-3.22-bioc\R\bin\R.exe CMD INSTALL --build --library=philr.buildbin-libdir philr_1.35.0.tar.gz StartedAt: 2025-08-15 10:57:02 -0400 (Fri, 15 Aug 2025) EndedAt: 2025-08-15 10:57:25 -0400 (Fri, 15 Aug 2025) EllapsedTime: 23.4 seconds RetCode: 0 Status: OK PackageFile: philr_1.35.0.zip PackageFileSize: 384.7 KiB