Package: phenopath Version: 1.33.0 Command: /home/biocbuild/R/R/bin/R CMD build --keep-empty-dirs --no-resave-data phenopath StartedAt: 2025-07-08 01:33:24 -0000 (Tue, 08 Jul 2025) EndedAt: 2025-07-08 01:34:30 -0000 (Tue, 08 Jul 2025) EllapsedTime: 66.0 seconds RetCode: 0 Status: OK PackageFile: phenopath_1.33.0.tar.gz PackageFileSize: 1.173 MiB