Package: phenopath Version: 1.33.0 Command: F:\biocbuild\bbs-3.22-bioc\R\bin\R.exe CMD INSTALL phenopath StartedAt: 2025-07-24 16:07:02 -0400 (Thu, 24 Jul 2025) EndedAt: 2025-07-24 16:07:53 -0400 (Thu, 24 Jul 2025) EllapsedTime: 50.8 seconds RetCode: 0 Status: OK