Package: phenopath Version: 1.33.0 Command: chmod a+r phenopath -R && F:\biocbuild\bbs-3.22-bioc\R\bin\R.exe CMD build --keep-empty-dirs --no-resave-data phenopath StartedAt: 2025-07-24 21:23:09 -0400 (Thu, 24 Jul 2025) EndedAt: 2025-07-24 21:24:18 -0400 (Thu, 24 Jul 2025) EllapsedTime: 68.1 seconds RetCode: 0 Status: OK PackageFile: phenopath_1.33.0.tar.gz PackageFileSize: 1.101 MiB