Package: phenopath Version: 1.33.0 Command: rm -rf phenopath.buildbin-libdir && mkdir phenopath.buildbin-libdir && F:\biocbuild\bbs-3.22-bioc\R\bin\R.exe CMD INSTALL --build --library=phenopath.buildbin-libdir phenopath_1.33.0.tar.gz StartedAt: 2025-07-25 09:55:22 -0400 (Fri, 25 Jul 2025) EndedAt: 2025-07-25 09:57:33 -0400 (Fri, 25 Jul 2025) EllapsedTime: 131.2 seconds RetCode: 0 Status: OK PackageFile: phenopath_1.33.0.zip PackageFileSize: 1.141 MiB